BEGIN:VCALENDAR
VERSION:2.0
PRODID:-//getmeout.org//NONSGML kigkonsult.se iCalcreator 2.30.10//
CALSCALE:GREGORIAN
METHOD:PUBLISH
UID:fa0f9ed4-72ac-4526-b154-61555e09f1ef
X-WR-CALDESC:
X-WR-RELCALID:fcbe15a0c3940060d57426b620e3d304
X-WR-TIMEZONE:America/Chicago
BEGIN:VTIMEZONE
TZID:America/Chicago
BEGIN:STANDARD
TZNAME:CST
DTSTART:20221106T020000
TZOFFSETFROM:-0500
TZOFFSETTO:-0600
RDATE:20231105T020000
RDATE:20241103T020000
END:STANDARD
BEGIN:DAYLIGHT
TZNAME:CDT
DTSTART:20230312T020000
TZOFFSETFROM:-0600
TZOFFSETTO:-0500
RDATE:20240310T020000
RDATE:20250309T020000
END:DAYLIGHT
END:VTIMEZONE
BEGIN:VEVENT
UID:c2a39dc1-ef19-44bf-80f4-7c043ac11d42
DTSTAMP:20260419T230606Z
DESCRIPTION:
DTSTART;TZID=America/Chicago:20231009T000000
DTEND;TZID=America/Chicago:20231009T235900
LOCATION:
SUMMARY:Closed for Indigenous Peoples Day!
END:VEVENT
END:VCALENDAR
