BEGIN:VCALENDAR
VERSION:2.0
PRODID:-//getmeout.org//NONSGML kigkonsult.se iCalcreator 2.30.10//
CALSCALE:GREGORIAN
METHOD:PUBLISH
UID:e0bb1cc2-7854-4fa1-aaea-1241f36cb82f
X-WR-CALDESC:
X-WR-RELCALID:837c1ade951b9647adce19f2f7c9ac19
X-WR-TIMEZONE:America/Chicago
BEGIN:VTIMEZONE
TZID:America/Chicago
BEGIN:STANDARD
TZNAME:CST
DTSTART:20221106T020000
TZOFFSETFROM:-0500
TZOFFSETTO:-0600
RDATE:20231105T020000
RDATE:20241103T020000
END:STANDARD
BEGIN:DAYLIGHT
TZNAME:CDT
DTSTART:20230312T020000
TZOFFSETFROM:-0600
TZOFFSETTO:-0500
RDATE:20240310T020000
END:DAYLIGHT
END:VTIMEZONE
BEGIN:VEVENT
UID:b33e8430-7a15-4214-aa58-b61eb61f1493
DTSTAMP:20260420T054224Z
DESCRIPTION:
DTSTART;TZID=America/Chicago:20230619T000000
DTEND;TZID=America/Chicago:20230619T235900
LOCATION:
SUMMARY:Closed for Juneteenth!
END:VEVENT
END:VCALENDAR
