BEGIN:VCALENDAR
VERSION:2.0
PRODID:-//getmeout.org//NONSGML kigkonsult.se iCalcreator 2.30.10//
CALSCALE:GREGORIAN
METHOD:PUBLISH
UID:e4d2d709-7ed0-47ff-aeda-f98ec6aa65a0
X-WR-CALDESC:
X-WR-RELCALID:5a707dd6b3b580129183f343187d1428
X-WR-TIMEZONE:America/Chicago
BEGIN:VTIMEZONE
TZID:America/Chicago
BEGIN:STANDARD
TZNAME:CST
DTSTART:20221106T020000
TZOFFSETFROM:-0500
TZOFFSETTO:-0600
RDATE:20231105T020000
RDATE:20241103T020000
END:STANDARD
BEGIN:DAYLIGHT
TZNAME:CDT
DTSTART:20230312T020000
TZOFFSETFROM:-0600
TZOFFSETTO:-0500
RDATE:20240310T020000
END:DAYLIGHT
END:VTIMEZONE
BEGIN:VEVENT
UID:c9626ac2-4c0c-4760-93e6-209d5da20fe5
DTSTAMP:20260420T072851Z
DESCRIPTION:
DTSTART;TZID=America/Chicago:20230529T000000
DTEND;TZID=America/Chicago:20230529T235900
LOCATION:
SUMMARY:Closed for Memorial Day!
END:VEVENT
END:VCALENDAR
