BEGIN:VCALENDAR
VERSION:2.0
PRODID:-//getmeout.org//NONSGML kigkonsult.se iCalcreator 2.30.10//
CALSCALE:GREGORIAN
METHOD:PUBLISH
UID:49557259-8054-48a7-a754-583a0e2f447d
X-WR-CALDESC:
X-WR-RELCALID:6f4c3816f1677de550ab255fa6a71446
X-WR-TIMEZONE:America/Chicago
BEGIN:VTIMEZONE
TZID:America/Chicago
BEGIN:STANDARD
TZNAME:CST
DTSTART:20221106T020000
TZOFFSETFROM:-0500
TZOFFSETTO:-0600
RDATE:20231105T020000
END:STANDARD
BEGIN:DAYLIGHT
TZNAME:CDT
DTSTART:20230312T020000
TZOFFSETFROM:-0600
TZOFFSETTO:-0500
RDATE:20240310T020000
END:DAYLIGHT
END:VTIMEZONE
BEGIN:VEVENT
UID:242d2a28-aa2c-46e6-8a3f-a9d07d117d0b
DTSTAMP:20260420T073208Z
DESCRIPTION:
DTSTART;TZID=America/Chicago:20230501T170000
DTEND;TZID=America/Chicago:20230501T190000
LOCATION:Harril/Dobson Hall @ NEO AM College
SUMMARY:See us at NEO!
END:VEVENT
END:VCALENDAR
