BEGIN:VCALENDAR
VERSION:2.0
PRODID:-//getmeout.org//NONSGML kigkonsult.se iCalcreator 2.30.10//
CALSCALE:GREGORIAN
METHOD:PUBLISH
UID:9a5dfdc6-6a2d-461c-a38c-00f787e584fe
X-WR-CALDESC:
X-WR-RELCALID:e85cdb41b29daffefbe59e9ba55f3244
X-WR-TIMEZONE:America/Chicago
BEGIN:VTIMEZONE
TZID:America/Chicago
BEGIN:STANDARD
TZNAME:CST
DTSTART:20221106T020000
TZOFFSETFROM:-0500
TZOFFSETTO:-0600
RDATE:20231105T020000
END:STANDARD
BEGIN:DAYLIGHT
TZNAME:CDT
DTSTART:20230312T020000
TZOFFSETFROM:-0600
TZOFFSETTO:-0500
RDATE:20240310T020000
END:DAYLIGHT
END:VTIMEZONE
BEGIN:VEVENT
UID:0c41f1f4-31fb-4f93-a880-f109710b2c04
DTSTAMP:20260420T092228Z
DESCRIPTION:
DTSTART;TZID=America/Chicago:20230426T163000
DTEND;TZID=America/Chicago:20230426T180000
LOCATION:NE Technology Center\, Afton Campus\, 19901 S Hwy 69\, Afton\, OK 
 74331
SUMMARY:April Board Meeting
END:VEVENT
END:VCALENDAR
