BEGIN:VCALENDAR
VERSION:2.0
PRODID:-//getmeout.org//NONSGML kigkonsult.se iCalcreator 2.30.10//
CALSCALE:GREGORIAN
METHOD:PUBLISH
UID:37cf7aa1-980c-4974-8486-18fa3bdb3166
X-WR-CALDESC:
X-WR-RELCALID:85447f684c7b9eceae9ce3817520829a
X-WR-TIMEZONE:America/Chicago
BEGIN:VTIMEZONE
TZID:America/Chicago
BEGIN:STANDARD
TZNAME:CST
DTSTART:20221106T020000
TZOFFSETFROM:-0500
TZOFFSETTO:-0600
RDATE:20231105T020000
END:STANDARD
BEGIN:DAYLIGHT
TZNAME:CDT
DTSTART:20230312T020000
TZOFFSETFROM:-0600
TZOFFSETTO:-0500
RDATE:20240310T020000
END:DAYLIGHT
END:VTIMEZONE
BEGIN:VEVENT
UID:7867ee59-ec3f-4761-a5d8-649900608be3
DTSTAMP:20260420T092159Z
DESCRIPTION:
DTSTART;TZID=America/Chicago:20230424T170000
DTEND;TZID=America/Chicago:20230424T190000
LOCATION:Harril/Dobson Hall @ NEO AM College
SUMMARY:See us at NEO!
END:VEVENT
END:VCALENDAR
