BEGIN:VCALENDAR
VERSION:2.0
PRODID:-//getmeout.org//NONSGML kigkonsult.se iCalcreator 2.30.10//
CALSCALE:GREGORIAN
METHOD:PUBLISH
UID:641c820c-b85c-4b32-998b-88c9f9110003
X-WR-CALDESC:
X-WR-RELCALID:58b3dfabec0f5181188192d86d7a6350
X-WR-TIMEZONE:America/Chicago
BEGIN:VTIMEZONE
TZID:America/Chicago
BEGIN:STANDARD
TZNAME:CST
DTSTART:20221106T020000
TZOFFSETFROM:-0500
TZOFFSETTO:-0600
RDATE:20231105T020000
END:STANDARD
BEGIN:DAYLIGHT
TZNAME:CDT
DTSTART:20220313T020000
TZOFFSETFROM:-0600
TZOFFSETTO:-0500
RDATE:20230312T020000
RDATE:20240310T020000
END:DAYLIGHT
END:VTIMEZONE
BEGIN:VEVENT
UID:567a934e-d469-4d6a-a900-be4c7bef1e5d
DTSTAMP:20260422T140224Z
DESCRIPTION:
DTSTART;TZID=America/Chicago:20230116T000000
DTEND;TZID=America/Chicago:20230116T235900
LOCATION:
SUMMARY:Closed for Martin Luther King Day!
END:VEVENT
END:VCALENDAR
