BEGIN:VCALENDAR
VERSION:2.0
PRODID:-//getmeout.org//NONSGML kigkonsult.se iCalcreator 2.30.10//
CALSCALE:GREGORIAN
METHOD:PUBLISH
UID:29af0c7b-efb2-4a3c-bba7-f6792235a23f
X-WR-CALDESC:
X-WR-RELCALID:1980d8239a97ebfc966a75ad25430daa
X-WR-TIMEZONE:America/Chicago
BEGIN:VTIMEZONE
TZID:America/Chicago
BEGIN:STANDARD
TZNAME:CST
DTSTART:20221106T020000
TZOFFSETFROM:-0500
TZOFFSETTO:-0600
RDATE:20231105T020000
END:STANDARD
BEGIN:DAYLIGHT
TZNAME:CDT
DTSTART:20220313T020000
TZOFFSETFROM:-0600
TZOFFSETTO:-0500
RDATE:20230312T020000
RDATE:20240310T020000
END:DAYLIGHT
END:VTIMEZONE
BEGIN:VEVENT
UID:b2af6f3f-ed7a-401d-b5ce-947c3cbed4bc
DTSTAMP:20260422T154327Z
DESCRIPTION:
DTSTART;TZID=America/Chicago:20221226T000000
DTEND;TZID=America/Chicago:20221226T235900
LOCATION:
SUMMARY:Closed in observance for Christmas Day!
END:VEVENT
END:VCALENDAR
