BEGIN:VCALENDAR
VERSION:2.0
PRODID:-//getmeout.org//NONSGML kigkonsult.se iCalcreator 2.30.10//
CALSCALE:GREGORIAN
METHOD:PUBLISH
UID:d1ee3326-2702-4812-9dc1-26883add1f82
X-WR-CALDESC:
X-WR-RELCALID:507426aa1dbb217a5c54519739a92fbb
X-WR-TIMEZONE:America/Chicago
BEGIN:VTIMEZONE
TZID:America/Chicago
BEGIN:STANDARD
TZNAME:CST
DTSTART:20221106T020000
TZOFFSETFROM:-0500
TZOFFSETTO:-0600
RDATE:20231105T020000
END:STANDARD
BEGIN:DAYLIGHT
TZNAME:CDT
DTSTART:20220313T020000
TZOFFSETFROM:-0600
TZOFFSETTO:-0500
RDATE:20230312T020000
RDATE:20240310T020000
END:DAYLIGHT
END:VTIMEZONE
BEGIN:VEVENT
UID:463ba9c5-60ab-4fc8-84e0-d6e9dafc05f8
DTSTAMP:20260424T083004Z
DESCRIPTION:
DTSTART;TZID=America/Chicago:20221224T000000
DTEND;TZID=America/Chicago:20221224T235900
LOCATION:
SUMMARY:Christmas Eve!
END:VEVENT
END:VCALENDAR
