BEGIN:VCALENDAR
VERSION:2.0
PRODID:-//getmeout.org//NONSGML kigkonsult.se iCalcreator 2.30.10//
CALSCALE:GREGORIAN
METHOD:PUBLISH
UID:259d0955-b0cb-41e1-93d0-c8a9dd6bf09f
X-WR-CALDESC:
X-WR-RELCALID:c5de96c7767fab2bf082786c5e667edb
X-WR-TIMEZONE:America/Chicago
BEGIN:VTIMEZONE
TZID:America/Chicago
BEGIN:STANDARD
TZNAME:CST
DTSTART:20221106T020000
TZOFFSETFROM:-0500
TZOFFSETTO:-0600
RDATE:20231105T020000
END:STANDARD
BEGIN:DAYLIGHT
TZNAME:CDT
DTSTART:20220313T020000
TZOFFSETFROM:-0600
TZOFFSETTO:-0500
RDATE:20230312T020000
RDATE:20240310T020000
END:DAYLIGHT
END:VTIMEZONE
BEGIN:VEVENT
UID:f8271c82-2892-4e3a-bb4a-b9dbe5afc9c5
DTSTAMP:20260422T154242Z
DESCRIPTION:
DTSTART;TZID=America/Chicago:20221223T000000
DTEND;TZID=America/Chicago:20221223T235900
LOCATION:
SUMMARY:Closed in observance for Christmas Eve!
END:VEVENT
END:VCALENDAR
