BEGIN:VCALENDAR
VERSION:2.0
PRODID:-//getmeout.org//NONSGML kigkonsult.se iCalcreator 2.30.10//
CALSCALE:GREGORIAN
METHOD:PUBLISH
UID:a5c7ff1d-5a2a-4992-95b8-6371ee843479
X-WR-CALDESC:
X-WR-RELCALID:c85159068bef520f9cc278b7584ec6ab
X-WR-TIMEZONE:America/Chicago
BEGIN:VTIMEZONE
TZID:America/Chicago
BEGIN:STANDARD
TZNAME:CST
DTSTART:20221106T020000
TZOFFSETFROM:-0500
TZOFFSETTO:-0600
RDATE:20231105T020000
END:STANDARD
BEGIN:DAYLIGHT
TZNAME:CDT
DTSTART:20220313T020000
TZOFFSETFROM:-0600
TZOFFSETTO:-0500
RDATE:20230312T020000
RDATE:20240310T020000
END:DAYLIGHT
END:VTIMEZONE
BEGIN:VEVENT
UID:4ec0cba0-8782-4f53-93c4-2d0d41798ac3
DTSTAMP:20260424T100424Z
DESCRIPTION:
DTSTART;TZID=America/Chicago:20221121T170000
DTEND;TZID=America/Chicago:20221121T190000
LOCATION:Harril/Dobson Hall @ NEO AM College
SUMMARY:See us at NEO!
END:VEVENT
END:VCALENDAR
