BEGIN:VCALENDAR
VERSION:2.0
PRODID:-//getmeout.org//NONSGML kigkonsult.se iCalcreator 2.30.10//
CALSCALE:GREGORIAN
METHOD:PUBLISH
UID:3f610aef-122f-47e5-9938-48baf6e97e7c
X-WR-CALDESC:
X-WR-RELCALID:0572309f31dda90d9c8b07780b3f677b
X-WR-TIMEZONE:America/Chicago
BEGIN:VTIMEZONE
TZID:America/Chicago
BEGIN:STANDARD
TZNAME:CST
DTSTART:20211107T020000
TZOFFSETFROM:-0500
TZOFFSETTO:-0600
RDATE:20221106T020000
RDATE:20231105T020000
END:STANDARD
BEGIN:DAYLIGHT
TZNAME:CDT
DTSTART:20220313T020000
TZOFFSETFROM:-0600
TZOFFSETTO:-0500
RDATE:20230312T020000
RDATE:20240310T020000
END:DAYLIGHT
END:VTIMEZONE
BEGIN:VEVENT
UID:2e9394bf-6ea8-44f3-9390-caac2874565c
DTSTAMP:20260424T113950Z
DESCRIPTION:
DTSTART;TZID=America/Chicago:20221031T000000
DTEND;TZID=America/Chicago:20221031T235900
LOCATION:
SUMMARY:Halloween
END:VEVENT
END:VCALENDAR
