BEGIN:VCALENDAR
VERSION:2.0
PRODID:-//getmeout.org//NONSGML kigkonsult.se iCalcreator 2.30.10//
CALSCALE:GREGORIAN
METHOD:PUBLISH
UID:8e6310e8-db6a-4a41-bbf7-d87f08157d89
X-WR-CALDESC:Join us for this year's Caring Hands Luncheon! The event will 
 include a guest speaker and catered lunch. All proceeds benefit no-cost se
 rvices to local victims of domestic violence\, sexual assault and stalking
 .
X-WR-RELCALID:4e086c993af03850f7d9f9103bd459dd
X-WR-TIMEZONE:America/Chicago
BEGIN:VTIMEZONE
TZID:America/Chicago
BEGIN:STANDARD
TZNAME:CST
DTSTART:20211107T020000
TZOFFSETFROM:-0500
TZOFFSETTO:-0600
RDATE:20221106T020000
RDATE:20231105T020000
END:STANDARD
BEGIN:DAYLIGHT
TZNAME:CDT
DTSTART:20220313T020000
TZOFFSETFROM:-0600
TZOFFSETTO:-0500
RDATE:20230312T020000
RDATE:20240310T020000
END:DAYLIGHT
END:VTIMEZONE
BEGIN:VEVENT
UID:cedd4554-f718-4949-874b-075831d8fcf5
DTSTAMP:20260424T113459Z
DESCRIPTION:Join us for this year's Caring Hands Luncheon! The event will i
 nclude a guest speaker and catered lunch. All proceeds benefit no-cost ser
 vices to local victims of domestic violence\, sexual assault and stalking.
DTSTART;TZID=America/Chicago:20221025T120000
DTEND;TZID=America/Chicago:20221025T130000
LOCATION:Fairgrounds Vinita
SUMMARY:Vinita Caring Hands Luncheon!
END:VEVENT
END:VCALENDAR
