BEGIN:VCALENDAR
VERSION:2.0
PRODID:-//getmeout.org//NONSGML kigkonsult.se iCalcreator 2.30.10//
CALSCALE:GREGORIAN
METHOD:PUBLISH
UID:57c23916-3fab-4b50-92bb-c775f44bee94
X-WR-CALDESC:
X-WR-RELCALID:abb5bddf0e57653ec66e0ee0310ba49d
X-WR-TIMEZONE:America/Chicago
BEGIN:VTIMEZONE
TZID:America/Chicago
BEGIN:STANDARD
TZNAME:CST
DTSTART:20211107T020000
TZOFFSETFROM:-0500
TZOFFSETTO:-0600
RDATE:20221106T020000
RDATE:20231105T020000
END:STANDARD
BEGIN:DAYLIGHT
TZNAME:CDT
DTSTART:20220313T020000
TZOFFSETFROM:-0600
TZOFFSETTO:-0500
RDATE:20230312T020000
RDATE:20240310T020000
END:DAYLIGHT
END:VTIMEZONE
BEGIN:VEVENT
UID:e2ac7d16-19b6-4764-94c1-d0a7cd03dab0
DTSTAMP:20260424T113328Z
DESCRIPTION:
DTSTART;TZID=America/Chicago:20221001T000000
DTEND;TZID=America/Chicago:20221001T235900
LOCATION:
SUMMARY:Domestic Violence Awareness Month
END:VEVENT
END:VCALENDAR
