BEGIN:VCALENDAR
VERSION:2.0
PRODID:-//getmeout.org//NONSGML kigkonsult.se iCalcreator 2.30.10//
CALSCALE:GREGORIAN
METHOD:PUBLISH
UID:9da1bb92-a296-4c31-bdfd-372cc7e28c33
X-WR-CALDESC:Join us for this year's annual Fearless Fern 5K and 1 Mile Wal
 k. \n\nRegister and more info at: https://runsignup.com/Race/OK/Miami/Fear
 lessFern5Kand1MileWalk?fbclid=IwAR1uHKnuspNhOGvYVA_wCwt16CDvAfVUe-TXB0wxlf
 64v40c5PEJ1nimezg
X-WR-RELCALID:12792a8e1eee93547eef4105cd516009
X-WR-TIMEZONE:America/Chicago
BEGIN:VTIMEZONE
TZID:America/Chicago
BEGIN:STANDARD
TZNAME:CST
DTSTART:20211107T020000
TZOFFSETFROM:-0500
TZOFFSETTO:-0600
RDATE:20221106T020000
RDATE:20231105T020000
END:STANDARD
BEGIN:DAYLIGHT
TZNAME:CDT
DTSTART:20220313T020000
TZOFFSETFROM:-0600
TZOFFSETTO:-0500
RDATE:20230312T020000
END:DAYLIGHT
END:VTIMEZONE
BEGIN:VEVENT
UID:475f13de-9d42-4507-8a70-44e9b10a420f
DTSTAMP:20260424T150616Z
DESCRIPTION:Join us for this year's annual Fearless Fern 5K and 1 Mile Walk
 . \n\nRegister and more info at: https://runsignup.com/Race/OK/Miami/Fearl
 essFern5Kand1MileWalk?fbclid=IwAR1uHKnuspNhOGvYVA_wCwt16CDvAfVUe-TXB0wxlf6
 4v40c5PEJ1nimezg
DTSTART;TZID=America/Chicago:20220820T070000
DTEND;TZID=America/Chicago:20220820T093000
LOCATION:
SUMMARY:Fearless Fern 5K and 1 Mile Walk
END:VEVENT
END:VCALENDAR
