BEGIN:VCALENDAR
VERSION:2.0
PRODID:-//getmeout.org//NONSGML kigkonsult.se iCalcreator 2.30.10//
CALSCALE:GREGORIAN
METHOD:PUBLISH
UID:106acf76-3645-46f3-8f41-43c2f9634740
X-WR-CALDESC:Wear teal today to show your support and solidarity to survivo
 rs of sexual assault! Join us as we honor this national movement. \n\nFor 
 more information\, contact 918-787-5381 or info@getmeout.org
X-WR-RELCALID:87506196320b99308e0009aa27f05742
X-WR-TIMEZONE:America/Chicago
BEGIN:VTIMEZONE
TZID:America/Chicago
BEGIN:STANDARD
TZNAME:CST
DTSTART:20211107T020000
TZOFFSETFROM:-0500
TZOFFSETTO:-0600
RDATE:20221106T020000
END:STANDARD
BEGIN:DAYLIGHT
TZNAME:CDT
DTSTART:20220313T020000
TZOFFSETFROM:-0600
TZOFFSETTO:-0500
RDATE:20230312T020000
END:DAYLIGHT
END:VTIMEZONE
BEGIN:VEVENT
UID:4e34c546-ee2c-4a83-8153-87c8a8f0baaa
DTSTAMP:20260424T214331Z
DESCRIPTION:Wear teal today to show your support and solidarity to survivor
 s of sexual assault! Join us as we honor this national movement. \n\nFor m
 ore information\, contact 918-787-5381 or info@getmeout.org
DTSTART;TZID=America/Chicago:20220406T080000
DTEND;TZID=America/Chicago:20220406T170000
LOCATION:
SUMMARY:National Wear Teal Day
END:VEVENT
END:VCALENDAR
