BEGIN:VCALENDAR
VERSION:2.0
PRODID:-//getmeout.org//NONSGML kigkonsult.se iCalcreator 2.30.10//
CALSCALE:GREGORIAN
METHOD:PUBLISH
UID:05b7bba0-3988-469c-9a4c-10f4b02663d5
X-WR-CALDESC:Join our 40-Mile Club to celebrate CCC's 40th Anniversary! Ins
 tructions on how to join are listed below. You can participate while train
 ing for this year's Fearless Fern 5K or on your own if you can't make the 
 race this year.\nMake sure to tag us in your running posts by using #ccc40
 mileclub
X-WR-RELCALID:082036c3036adb31a09b4171d79b223b
X-WR-TIMEZONE:America/Chicago
BEGIN:VTIMEZONE
TZID:America/Chicago
BEGIN:STANDARD
TZNAME:CST
DTSTART:20201101T020000
TZOFFSETFROM:-0500
TZOFFSETTO:-0600
RDATE:20211107T020000
RDATE:20221106T020000
END:STANDARD
BEGIN:DAYLIGHT
TZNAME:CDT
DTSTART:20210314T020000
TZOFFSETFROM:-0600
TZOFFSETTO:-0500
RDATE:20220313T020000
END:DAYLIGHT
END:VTIMEZONE
BEGIN:VEVENT
UID:dd3532fb-6623-47de-bf0a-e4cc2335b976
DTSTAMP:20260425T114838Z
DESCRIPTION:Join our 40-Mile Club to celebrate CCC's 40th Anniversary! Inst
 ructions on how to join are listed below. You can participate while traini
 ng for this year's Fearless Fern 5K or on your own if you can't make the r
 ace this year.\nMake sure to tag us in your running posts by using #ccc40m
 ileclub
DTSTART;TZID=America/Chicago:20210831T000000
DTEND;TZID=America/Chicago:20210831T235900
LOCATION:
SUMMARY:40-Mile Club
END:VEVENT
END:VCALENDAR
