BEGIN:VCALENDAR
VERSION:2.0
PRODID:-//getmeout.org//NONSGML kigkonsult.se iCalcreator 2.30.10//
CALSCALE:GREGORIAN
METHOD:PUBLISH
UID:5e8f4d14-4d57-4c4d-9385-cad1920342cb
X-WR-CALDESC:Lace up those running shoes and join us for this year's annual
  Fearless Fern 5K! All proceeds benefit services for local victims of dome
 stic violence\, sexual assault and stalking in memory of Fern L. Holland.
 \n\nRegister at:\nhttps://runsignup.com/Race/OK/Miami/FearlessFern5K1MileW
 alk2021?fbclid=IwAR19vn-_MJZGNIusD-1_LU9ZleivtU1zOl1TdXPXezdF6T4vsLQ1Eh1gB
 A0
X-WR-RELCALID:fcade6e7d9c738eadc9362d126755003
X-WR-TIMEZONE:America/Chicago
BEGIN:VTIMEZONE
TZID:America/Chicago
BEGIN:STANDARD
TZNAME:CST
DTSTART:20201101T020000
TZOFFSETFROM:-0500
TZOFFSETTO:-0600
RDATE:20211107T020000
RDATE:20221106T020000
END:STANDARD
BEGIN:DAYLIGHT
TZNAME:CDT
DTSTART:20210314T020000
TZOFFSETFROM:-0600
TZOFFSETTO:-0500
RDATE:20220313T020000
END:DAYLIGHT
END:VTIMEZONE
BEGIN:VEVENT
UID:908914fe-a44c-49a2-ba61-0fd329706411
DTSTAMP:20260425T114716Z
DESCRIPTION:Lace up those running shoes and join us for this year's annual 
 Fearless Fern 5K! All proceeds benefit services for local victims of domes
 tic violence\, sexual assault and stalking in memory of Fern L. Holland.\n
 \nRegister at:\nhttps://runsignup.com/Race/OK/Miami/FearlessFern5K1MileWal
 k2021?fbclid=IwAR19vn-_MJZGNIusD-1_LU9ZleivtU1zOl1TdXPXezdF6T4vsLQ1Eh1gBA0
DTSTART;TZID=America/Chicago:20210821T070000
DTEND;TZID=America/Chicago:20210821T093000
LOCATION:118 A Street SE\, Miami\, OK 74354 US
SUMMARY:Fearless Fern 5K & 1-Mile Walk
END:VEVENT
END:VCALENDAR
